BEGIN:VCALENDAR
VERSION:2.0
PRODID:-//Floky la loutre - ECPv6.15.20//NONSGML v1.0//EN
CALSCALE:GREGORIAN
METHOD:PUBLISH
X-ORIGINAL-URL:https://flokylaloutre.ch
X-WR-CALDESC:Évènements pour Floky la loutre
REFRESH-INTERVAL;VALUE=DURATION:PT1H
X-Robots-Tag:noindex
X-PUBLISHED-TTL:PT1H
BEGIN:VTIMEZONE
TZID:Europe/Zurich
BEGIN:DAYLIGHT
TZOFFSETFROM:+0100
TZOFFSETTO:+0200
TZNAME:CEST
DTSTART:20250330T010000
END:DAYLIGHT
BEGIN:STANDARD
TZOFFSETFROM:+0200
TZOFFSETTO:+0100
TZNAME:CET
DTSTART:20251026T010000
END:STANDARD
BEGIN:DAYLIGHT
TZOFFSETFROM:+0100
TZOFFSETTO:+0200
TZNAME:CEST
DTSTART:20260329T010000
END:DAYLIGHT
BEGIN:STANDARD
TZOFFSETFROM:+0200
TZOFFSETTO:+0100
TZNAME:CET
DTSTART:20261025T010000
END:STANDARD
BEGIN:DAYLIGHT
TZOFFSETFROM:+0100
TZOFFSETTO:+0200
TZNAME:CEST
DTSTART:20270328T010000
END:DAYLIGHT
BEGIN:STANDARD
TZOFFSETFROM:+0200
TZOFFSETTO:+0100
TZNAME:CET
DTSTART:20271031T010000
END:STANDARD
END:VTIMEZONE
BEGIN:VEVENT
DTSTART;TZID=Europe/Zurich:20260425T200000
DTEND;TZID=Europe/Zurich:20260425T200000
DTSTAMP:20260421T102959
CREATED:20260205T085849Z
LAST-MODIFIED:20260205T085849Z
UID:10002899-1777147200-1777147200@flokylaloutre.ch
SUMMARY:Over the Clouds
DESCRIPTION:Over the Clouds\nun jeune groupe de musique genevois créé en mai 2025\, composant ses propres morceaux dans un style rock alternatif et punk.  \nIls enregistrent et mixent eux-mêmes leurs compositions\, publiées sur plus de 50 plate-forme de streaming \n  \nEntrée libre\, sortie au chapeau
URL:https://flokylaloutre.ch/event/over-the-clouds/
LOCATION:Floky la loutre\, 44 rue de Carouge\, Genève\, 1205
CATEGORIES:Concert,Floky Underground,Pop
ATTACH;FMTTYPE=image/png:https://flokylaloutre.ch/wp-content/uploads/2026/02/overtheclouds.png
ORGANIZER;CN="Floky la loutre":MAILTO:info@flokylaloutre.ch
END:VEVENT
BEGIN:VEVENT
DTSTART;TZID=Europe/Zurich:20260501T183000
DTEND;TZID=Europe/Zurich:20260501T233000
DTSTAMP:20260421T102959
CREATED:20260403T081513Z
LAST-MODIFIED:20260403T081513Z
UID:10002929-1777660200-1777678200@flokylaloutre.ch
SUMMARY:UniArt - fait son Live
DESCRIPTION:Live – shows- exhibitions
URL:https://flokylaloutre.ch/event/uniart-fait-son-live-2/
LOCATION:Floky la loutre\, 44 rue de Carouge\, Genève\, 1205
CATEGORIES:Concert,Floky Event,Floky Underground,Pop,Soirée,Spectacle
ATTACH;FMTTYPE=image/png:https://flokylaloutre.ch/wp-content/uploads/2026/04/uniart-1.png
ORGANIZER;CN="Floky la loutre":MAILTO:info@flokylaloutre.ch
END:VEVENT
BEGIN:VEVENT
DTSTART;TZID=Europe/Zurich:20260502T200000
DTEND;TZID=Europe/Zurich:20260502T213000
DTSTAMP:20260421T102959
CREATED:20260319T153704Z
LAST-MODIFIED:20260319T153704Z
UID:10002924-1777752000-1777757400@flokylaloutre.ch
SUMMARY:La Terza Brigada
DESCRIPTION:La Terza Brigada \nTrio musical franco-suisse \, La « Terza Brigada » aura enchaîné plus de 20 prestations depuis son lancement en 2023\, dans des lieux du franco-genevois aussi variés que des bars\, des cinémas\, des églises\, des centres culturels\, des scènes locales  ou d’autres plus atypiques comme le conservatoire et la Tour Bastian du Salève. Ses particularités ?  Aborder des registres musicaux variés\, dans des répertoires thématiques\, dont du  pop/folk en six langues\, intégrant des morceaux traditionnels\, populaires ou des reprises\, allant du country blues\, de la chansons française aux chants de marin. Moment festif pour son  retour au Floky avec son spectacle « La Terza chante l’humour » !  Avec Simeone Russo (voix\, ukulele)\, Fabienne J.Simonet (voix\, guitare\, accordéon) et Jean-Michel Girod (guitare\, banjo\, rythmique). Entrée gratuite. Chapeau pour une action au Sénégal. Verrée avec les musiciens en finale. 
URL:https://flokylaloutre.ch/event/la-terza-brigada-2/
LOCATION:Floky la loutre\, 44 rue de Carouge\, Genève\, 1205
CATEGORIES:Concert,Floky Underground,Pop
ATTACH;FMTTYPE=image/png:https://flokylaloutre.ch/wp-content/uploads/2026/03/terza-brigada.png
ORGANIZER;CN="Floky la loutre":MAILTO:info@flokylaloutre.ch
END:VEVENT
BEGIN:VEVENT
DTSTART;TZID=Europe/Zurich:20260509T203000
DTEND;TZID=Europe/Zurich:20260509T233000
DTSTAMP:20260421T102959
CREATED:20260420T074454Z
LAST-MODIFIED:20260420T074525Z
UID:10002932-1778358600-1778369400@flokylaloutre.ch
SUMMARY:Soirée Openmic
DESCRIPTION:Soirée Openmic \nThème « Genderswap comédie musicale »\nLe but est de présenter une chanson de comédie musicale originalement interprétée par un autre genre que le sien. Comme cela implique peut-être des changements de tonalité par rapport au karaoké original\, vous pouvez vous inscrire et télécharger le karaoké sur ce formulaire : \nInscription
URL:https://flokylaloutre.ch/event/soiree-openmic/
LOCATION:Floky la loutre\, 44 rue de Carouge\, Genève\, 1205
CATEGORIES:Concert,English Speakers,Floky Underground,Karaoke,Pop,Soirée
ATTACH;FMTTYPE=image/png:https://flokylaloutre.ch/wp-content/uploads/2026/04/nebula.png
ORGANIZER;CN="Floky la loutre":MAILTO:info@flokylaloutre.ch
END:VEVENT
BEGIN:VEVENT
DTSTART;TZID=Europe/Zurich:20260522T200000
DTEND;TZID=Europe/Zurich:20260522T200000
DTSTAMP:20260421T102959
CREATED:20260224T160459Z
LAST-MODIFIED:20260224T160605Z
UID:10002910-1779480000-1779480000@flokylaloutre.ch
SUMMARY:Anto
DESCRIPTION:Basée à Genève\, Anto est une artiste qui façonne une musique à son image : sincère\,\nchaleureuse et profondément humaine. Entre folk\, groove et pop sensible\, elle développe un\nunivers intime où chaque chanson semble écrite « avec amour »\, portée par une voix\nauthentique et une énergie douce mais vibrante.\nSon EP Blue Eyes marque une étape importante de son parcours. Ce projet révèle une\nartiste attachée à l’émotion brute\, aux mélodies organiques et à une écriture introspective\nqui touche par sa simplicité et sa vérité.\nAncrée dans la scène genevoise et suisse\, Anto cultive un son à la fois local et universel.\nSon identité artistique repose sur un équilibre subtil : une fibre folk chaleureuse\, un groove\nvivant et une proximité naturelle avec son public.\nSur scène comme en studio\, elle privilégie l’authenticité aux artifices\, offrant une musique\nlumineuse\, sensible et profondément connectée à l’humain
URL:https://flokylaloutre.ch/event/anto/
LOCATION:Floky la loutre\, 44 rue de Carouge\, Genève\, 1205
CATEGORIES:Concert,Floky Underground,Pop
ATTACH;FMTTYPE=image/png:https://flokylaloutre.ch/wp-content/uploads/2026/02/anto-1.png
ORGANIZER;CN="Floky la loutre":MAILTO:info@flokylaloutre.ch
END:VEVENT
BEGIN:VEVENT
DTSTART;TZID=Europe/Zurich:20260612T203000
DTEND;TZID=Europe/Zurich:20260612T203000
DTSTAMP:20260421T102959
CREATED:20260403T081311Z
LAST-MODIFIED:20260403T081311Z
UID:10002928-1781296200-1781296200@flokylaloutre.ch
SUMMARY:Gédéon - Rock
DESCRIPTION:Gédéon (GE) – Rock\n\nGroupe suisse avec ses compositions originales en français et en espagnol dans une atmosphère intimiste rock reflétant les différents univers sombres et colorés du trio genevois.\nIls ont sorti leur premier LP sur le label Urgence Disk et le second est en cours d’enregistrement.\nVoir et écouter ici : https://gedeon-music.ch/\n\nEntrée libre\, paiement au chapeau
URL:https://flokylaloutre.ch/event/gedeon-rock/
LOCATION:Floky la loutre\, 44 rue de Carouge\, Genève\, 1205
CATEGORIES:Concert,Floky Underground,Pop,Soirée
ATTACH;FMTTYPE=image/png:https://flokylaloutre.ch/wp-content/uploads/2026/04/gedeon.png
ORGANIZER;CN="Floky la loutre":MAILTO:info@flokylaloutre.ch
END:VEVENT
END:VCALENDAR