BEGIN:VCALENDAR
VERSION:2.0
PRODID:-//Floky la loutre - ECPv6.15.20//NONSGML v1.0//EN
CALSCALE:GREGORIAN
METHOD:PUBLISH
X-WR-CALNAME:Floky la loutre
X-ORIGINAL-URL:https://flokylaloutre.ch
X-WR-CALDESC:Évènements pour Floky la loutre
REFRESH-INTERVAL;VALUE=DURATION:PT1H
X-Robots-Tag:noindex
X-PUBLISHED-TTL:PT1H
BEGIN:VTIMEZONE
TZID:Europe/Zurich
BEGIN:DAYLIGHT
TZOFFSETFROM:+0100
TZOFFSETTO:+0200
TZNAME:CEST
DTSTART:20240331T010000
END:DAYLIGHT
BEGIN:STANDARD
TZOFFSETFROM:+0200
TZOFFSETTO:+0100
TZNAME:CET
DTSTART:20241027T010000
END:STANDARD
BEGIN:DAYLIGHT
TZOFFSETFROM:+0100
TZOFFSETTO:+0200
TZNAME:CEST
DTSTART:20250330T010000
END:DAYLIGHT
BEGIN:STANDARD
TZOFFSETFROM:+0200
TZOFFSETTO:+0100
TZNAME:CET
DTSTART:20251026T010000
END:STANDARD
BEGIN:DAYLIGHT
TZOFFSETFROM:+0100
TZOFFSETTO:+0200
TZNAME:CEST
DTSTART:20260329T010000
END:DAYLIGHT
BEGIN:STANDARD
TZOFFSETFROM:+0200
TZOFFSETTO:+0100
TZNAME:CET
DTSTART:20261025T010000
END:STANDARD
END:VTIMEZONE
BEGIN:VEVENT
DTSTART;TZID=Europe/Zurich:20250613T193000
DTEND;TZID=Europe/Zurich:20250613T230000
DTSTAMP:20260421T115138
CREATED:20250123T092103Z
LAST-MODIFIED:20250608T181631Z
UID:10002682-1749843000-1749855600@flokylaloutre.ch
SUMMARY:Soirée Rock
DESCRIPTION:La team @rock_geneve vous invite pour la soirée Rock\, le 13 juin 2025\, on vous attend chaud !! Venez enflammer le dancefloor à partir de 19h30. \nLe bar Floky la loutre nous accueille\, n’hésitez pas à consommer pour faire honneur à leur générosité 🦦 \nC’est l’occasion de bien s’habiller donc venez avec votre dress code « Black & Gold »✨
URL:https://flokylaloutre.ch/event/soiree-rock/
LOCATION:Floky la loutre\, 44 rue de Carouge\, Genève\, 1205
CATEGORIES:Danse,DJ,Floky Event,Pop,Soirée
ATTACH;FMTTYPE=image/png:https://flokylaloutre.ch/wp-content/uploads/2025/01/rock-2.png
ORGANIZER;CN="Floky la loutre":MAILTO:info@flokylaloutre.ch
END:VEVENT
BEGIN:VEVENT
DTSTART;TZID=Europe/Zurich:20250613T200000
DTEND;TZID=Europe/Zurich:20250613T220000
DTSTAMP:20260421T115138
CREATED:20250608T182818Z
LAST-MODIFIED:20250608T182818Z
UID:10002772-1749844800-1749852000@flokylaloutre.ch
SUMMARY:Lunacy Cabaret
DESCRIPTION:Sassy Dance présente \n\nSon prochain spectacle burlesque par \nAprès trois éditions jouées à guichet fermé\, Lunacy Cabaret revient  au Floky La Loutre Bar pour vous émerveiller à nouveau avec son spectacle burlesque inoubliable ! \n💃 Venez applaudir nos talentueux artistes suisses et plongez dans une soirée où paillettes\, plumes et glamour s’entrelacent dans une atmosphère intime\, cosy et chaleureuse. \nNous vous donnons rendez-vous le 13 juin 2025 avec à l’affiche : Crazy Candy (GE)\, Black Melody (VD)\, Miss Tabby Tease (GE)\,  Mister Blanc (GE)\, Lina Sue (GE)\, Magic Lily (NE)\, Les Sassy’s Angels et Hédoné (GE) notre New Talent Swiss. \nCe show sera présenté par l’iconique Miss Sassy (GE) \nPrix : 30 CHF​ \nNe tardez pas à réserver vos places pour vivre une nouvelle expérience magique et vibrante. ❤️ \n  \n  \nBilletterie
URL:https://flokylaloutre.ch/event/lunacy-cabaret-4/
LOCATION:Floky la loutre\, 44 rue de Carouge\, Genève\, 1205
CATEGORIES:Concert,Danse,Floky Underground,Soirée,Spectacle
ATTACH;FMTTYPE=image/png:https://flokylaloutre.ch/wp-content/uploads/2025/06/lunacy.png
ORGANIZER;CN="Floky la loutre":MAILTO:info@flokylaloutre.ch
END:VEVENT
END:VCALENDAR