BEGIN:VCALENDAR
VERSION:2.0
PRODID:-//Floky la loutre - ECPv6.15.20//NONSGML v1.0//EN
CALSCALE:GREGORIAN
METHOD:PUBLISH
X-ORIGINAL-URL:https://flokylaloutre.ch
X-WR-CALDESC:Évènements pour Floky la loutre
REFRESH-INTERVAL;VALUE=DURATION:PT1H
X-Robots-Tag:noindex
X-PUBLISHED-TTL:PT1H
BEGIN:VTIMEZONE
TZID:Europe/Zurich
BEGIN:DAYLIGHT
TZOFFSETFROM:+0100
TZOFFSETTO:+0200
TZNAME:CEST
DTSTART:20250330T010000
END:DAYLIGHT
BEGIN:STANDARD
TZOFFSETFROM:+0200
TZOFFSETTO:+0100
TZNAME:CET
DTSTART:20251026T010000
END:STANDARD
BEGIN:DAYLIGHT
TZOFFSETFROM:+0100
TZOFFSETTO:+0200
TZNAME:CEST
DTSTART:20260329T010000
END:DAYLIGHT
BEGIN:STANDARD
TZOFFSETFROM:+0200
TZOFFSETTO:+0100
TZNAME:CET
DTSTART:20261025T010000
END:STANDARD
BEGIN:DAYLIGHT
TZOFFSETFROM:+0100
TZOFFSETTO:+0200
TZNAME:CEST
DTSTART:20270328T010000
END:DAYLIGHT
BEGIN:STANDARD
TZOFFSETFROM:+0200
TZOFFSETTO:+0100
TZNAME:CET
DTSTART:20271031T010000
END:STANDARD
END:VTIMEZONE
BEGIN:VEVENT
DTSTART;TZID=Europe/Zurich:20260205T200000
DTEND;TZID=Europe/Zurich:20260205T200000
DTSTAMP:20260424T123430
CREATED:20260112T182559Z
LAST-MODIFIED:20260125T151505Z
UID:10002888-1770321600-1770321600@flokylaloutre.ch
SUMMARY:c'est pas Moi\, c'est Vous
DESCRIPTION:C’est pas Moi\, c’est Vous\n\n« C’est pas moi\, c’est vous » est un spectacle de mentalisme théâtralisé qui inverse les codes du genre. Ici\, le pouvoir n’est pas sur scène mais dans la salle. À travers des expériences participatives\, drôles et parfois déstabilisantes\, Zack Alder invite le public à explorer les mécanismes de la perception\, du choix et de l’identité. Un spectacle interactif\, accessible et humain\, où chaque représentation est co-créée avec les spectatrices et spectateurs.\n\n\nBilletterie \n\n\n\n\nInfo:\nreservations@ocytocine.ch\n+41 78 862 50 41.\n\n\n\nInstagram : z.alder
URL:https://flokylaloutre.ch/event/cest-pas-moi-cest-vous/
LOCATION:Floky la loutre\, 44 rue de Carouge\, Genève\, 1205
CATEGORIES:Événement,Floky Underground,Spectacle
ATTACH;FMTTYPE=image/png:https://flokylaloutre.ch/wp-content/uploads/2026/01/ocytocine.png
ORGANIZER;CN="Floky la loutre":MAILTO:info@flokylaloutre.ch
END:VEVENT
BEGIN:VEVENT
DTSTART;TZID=Europe/Zurich:20260211T203000
DTEND;TZID=Europe/Zurich:20260211T220000
DTSTAMP:20260424T123430
CREATED:20260117T070110Z
LAST-MODIFIED:20260117T070110Z
UID:10002892-1770841800-1770847200@flokylaloutre.ch
SUMMARY:Les Perchés du Lac - Un pour Tous...
DESCRIPTION:Un pour tous\, tous pour un !\n\nDes solos\, et plus encore… 4 joueurs. Des solos\, 2 joueurs et 2 persos\, des solos\, 3 joueurs et 3 persos. Jusque là ça va. À un moment\, plus de personnages que de joueurs.\nT’as pas compris? Viens! Les perchés du lac jouent avec les nombres!\nLe spectacle où les personnages reviennent\, mais jamais pareil.\n\nBilletterie
URL:https://flokylaloutre.ch/event/les-perches-du-lac-un-pour-tous/
LOCATION:Floky la loutre\, 44 rue de Carouge\, Genève\, 1205
CATEGORIES:Événement,Floky Underground,Impro,Soirée,Spectacle
ATTACH;FMTTYPE=image/png:https://flokylaloutre.ch/wp-content/uploads/2026/01/unpourtous.png
ORGANIZER;CN="Floky la loutre":MAILTO:info@flokylaloutre.ch
END:VEVENT
BEGIN:VEVENT
DTSTART;TZID=Europe/Zurich:20260214T203000
DTEND;TZID=Europe/Zurich:20260214T223000
DTSTAMP:20260424T123430
CREATED:20251223T181444Z
LAST-MODIFIED:20260213T222435Z
UID:10002881-1771101000-1771108200@flokylaloutre.ch
SUMMARY:ANNULE - Concert de la St Valentin - Lili Roche - ANNULE
DESCRIPTION:ANNULE\n💘 Concert de la Saint-Valentin\nPlongez dans l’univers rétro et sensuel de la chanson française avec Lili Roche ! \nAccompagnée de ses musiciens\, elle vous invite à redécouvrir les titres les plus polissons et coquins des années 1930 à 1969. \nDe Gainsbourg à Juliette Gréco\, en passant par Colette Renard\, Brigitte Bardot\, Magali Noël\, Patachou\, ou Joséphine Baker\, Lili Roche revisite ces perles du patrimoine français\, aux textes délicieusement coquins – mais aussi poétiques et drôles – dans un show musical à l’esprit burlesque. \nUne soirée haute en couleur pour rire\, rougir\, se divertir\, et voyager dans l’anthologie des chansons françaises les plus osées\, dans leur version originale – parfois censurée à leur sortie ! \nFormule intimiste en trio acoustique : chant – guitare – percussions \nEn couple\, entre amis\, entre copines ou seul.e\, venez vivre une soirée conviviale et pétillante pour célébrer l’amour… avec malice ! \n  \nANNULE\n  \nTout public (dès 12 ans) \nBilletterie
URL:https://flokylaloutre.ch/event/concert-de-la-st-valentin-lili-roche/
LOCATION:Floky la loutre\, 44 rue de Carouge\, Genève\, 1205
CATEGORIES:Concert,Floky Underground,Pop,Soirée,Spectacle
ATTACH;FMTTYPE=image/png:https://flokylaloutre.ch/wp-content/uploads/2025/12/liliroche-1.png
ORGANIZER;CN="Floky la loutre":MAILTO:info@flokylaloutre.ch
END:VEVENT
BEGIN:VEVENT
DTSTART;TZID=Europe/Zurich:20260218T200000
DTEND;TZID=Europe/Zurich:20260218T220000
DTSTAMP:20260424T123430
CREATED:20260214T075328Z
LAST-MODIFIED:20260214T075328Z
UID:10002827-1771444800-1771452000@flokylaloutre.ch
SUMMARY:Renegade Saints - Winging it
DESCRIPTION:Renegade Saints present Swipe left: an improv show \n\nAn interactive dating improv.\n\nYou decide who connects\, who gets dumped\, and who falls in love !\nAnd even better\, your bad dating stories directly fuel the scenes.\n\nMessy. Interactive. Cheeky. Basically: dating\, but make it improv. 💘🎭\n\nPerformers: Valérie Baggi\, Viki Lazar\, Marzia Marastoni\, Daire O’Doherty\, Shay Schafer\n\nWinging It is Geneva’s English-language improv sandbox. New formats\, new troupes\, and new improvisers take the stage.\n\nEach month\, you get to see a new improv show. It can be familiar performers trying a new format\, or a whole new ensemble debuting. And in the second half\, the Saints will host an improv jam with performers and audience members\, where you get to play familiar short-form games with friendly faces.\nSo come on down if you want to see cool new improv – or if you want to try your hand on the Geneva improv stage yourself.If your group is interested in performing\, shoot an email to hello@renegadesaints.ch with the subject line « Winging It ».\nEntrance fee : CHF 15.- at the gate
URL:https://flokylaloutre.ch/event/renegade-saints-winging-it-2-5/
LOCATION:Floky la loutre\, 44 rue de Carouge\, Genève\, 1205
CATEGORIES:English Speakers,Floky Underground,Impro,Soirée,Spectacle
ATTACH;FMTTYPE=image/png:https://flokylaloutre.ch/wp-content/uploads/2023/09/winging-it.png
ORGANIZER;CN="Floky la loutre":MAILTO:info@flokylaloutre.ch
END:VEVENT
BEGIN:VEVENT
DTSTART;TZID=Europe/Zurich:20260219T200000
DTEND;TZID=Europe/Zurich:20260219T200000
DTSTAMP:20260424T123430
CREATED:20251106T135428Z
LAST-MODIFIED:20251106T135428Z
UID:10002866-1771531200-1771531200@flokylaloutre.ch
SUMMARY:Free Dumb
DESCRIPTION:“An American abroad\, watching it all burn—through experimental comedy.”\nTera moved from the USA to Berlin 6 years ago. Now her country is collapsing.\nAfter 6 years of performing stand up in Europe\, Tera returns to her performance art roots for A Comedy show that feels like absurdist poetry\, a journey of the pscyhe\, an investigation of late stage capitalism\, with songs and standup about:\nLife. Liberty. Love. Late Stage Capitlism. And the Downfall of an Empire.\nThis is a show not to miss! \n  \nGet Ticket
URL:https://flokylaloutre.ch/event/free-dumb/
LOCATION:Floky la loutre\, 44 rue de Carouge\, Genève\, 1205
CATEGORIES:English Speakers,Floky Underground,Soirée
ATTACH;FMTTYPE=image/png:https://flokylaloutre.ch/wp-content/uploads/2025/11/tera.png
ORGANIZER;CN="Floky la loutre":MAILTO:info@flokylaloutre.ch
END:VEVENT
BEGIN:VEVENT
DTSTART;TZID=Europe/Zurich:20260220T210000
DTEND;TZID=Europe/Zurich:20260220T230000
DTSTAMP:20260424T123430
CREATED:20260128T212901Z
LAST-MODIFIED:20260128T212901Z
UID:10002898-1771621200-1771628400@flokylaloutre.ch
SUMMARY:SLJ
DESCRIPTION:SLJ\nJeune artiste Genevois indépendant il compose et écris ses propres chansons dans un style pop alternatif – ballade et les interprète en guitare/voix\, les textes sont en anglais. \nJusqu’à maintenant\, il a sorti 3 EP de 4 titres ainsi que 3 single\, et travaille actuellement sur de nouveaux projets et un 4eme EP qui sortira en 2026. \n  \nEntrée libre\, paiement au chapeau
URL:https://flokylaloutre.ch/event/slj/
LOCATION:Floky la loutre\, 44 rue de Carouge\, Genève\, 1205
CATEGORIES:Concert,Événement,Floky Underground,Pop
ATTACH;FMTTYPE=image/png:https://flokylaloutre.ch/wp-content/uploads/2026/01/slj.png
ORGANIZER;CN="Floky la loutre":MAILTO:info@flokylaloutre.ch
END:VEVENT
BEGIN:VEVENT
DTSTART;TZID=Europe/Zurich:20260221T190000
DTEND;TZID=Europe/Zurich:20260221T233000
DTSTAMP:20260424T123430
CREATED:20260214T075133Z
LAST-MODIFIED:20260214T075133Z
UID:10002902-1771700400-1771716600@flokylaloutre.ch
SUMMARY:Drum & Bass
DESCRIPTION:Benka\n\n\nDJ Rolla\n\n\nHarris Kale\n\n\nKenhobiz\n\n\nTraction
URL:https://flokylaloutre.ch/event/drum-bass/
LOCATION:Floky la loutre\, 44 rue de Carouge\, Genève\, 1205
CATEGORIES:Concert,Événement,Floky Underground,Pop,Soirée
ATTACH;FMTTYPE=image/png:https://flokylaloutre.ch/wp-content/uploads/2026/02/subsystem.png
ORGANIZER;CN="Floky la loutre":MAILTO:info@flokylaloutre.ch
END:VEVENT
BEGIN:VEVENT
DTSTART;TZID=Europe/Zurich:20260225T200000
DTEND;TZID=Europe/Zurich:20260225T213000
DTSTAMP:20260424T123430
CREATED:20250821T071223Z
LAST-MODIFIED:20250916T091052Z
UID:10002835-1772049600-1772055000@flokylaloutre.ch
SUMMARY:La Bankize
DESCRIPTION:La Bankize revient à Floky ! \nEn première partie : Impro Swipe\, un concept d’impro théâtrale déjanté sans règle\, puis en deuxième partie la JAM où la scène est ouverte à tous et toutes ! » \nEntrée libre; chapeau à la sortie. \nOuverture des portes à 19h45\, début à 20h.
URL:https://flokylaloutre.ch/event/la-bankize-2/2026-02-25/
LOCATION:Floky la loutre\, 44 rue de Carouge\, Genève\, 1205
CATEGORIES:Événement,Floky Underground,Impro,Soirée,Spectacle
ATTACH;FMTTYPE=image/png:https://flokylaloutre.ch/wp-content/uploads/2024/11/bankize.png
ORGANIZER;CN="Floky la loutre":MAILTO:info@flokylaloutre.ch
END:VEVENT
BEGIN:VEVENT
DTSTART;TZID=Europe/Zurich:20260227T203000
DTEND;TZID=Europe/Zurich:20260227T223000
DTSTAMP:20260424T123430
CREATED:20260127T202056Z
LAST-MODIFIED:20260227T070332Z
UID:10002897-1772224200-1772231400@flokylaloutre.ch
SUMMARY:L'indicible
DESCRIPTION:L’Indicible\nA la jeunesse de notre planète des entités extra-terrestres cauchemardesques issues des confins de l’univers\, vinrent la coloniser… Elles dorment désormais dans un sommeil de mort… Les protagonistes de «L’indicible » seront-ils capables de les confronter\, d’investiguer sur leurs mystères insondables sans y laisser leur santé mentale… Voir même leur vie ?\nDéconseillé aux moins de 12 ans.\n\nSpectacle gratuit\, chapeau à la sortie\n\nPar la Compagnie des Murmures\n\n\nInfos et réservations : compagnie.des.murmures@gmail.com
URL:https://flokylaloutre.ch/event/lindicible/
LOCATION:Floky la loutre\, 44 rue de Carouge\, Genève\, 1205
CATEGORIES:Événement,Floky Underground,Impro,Spectacle
ATTACH;FMTTYPE=image/png:https://flokylaloutre.ch/wp-content/uploads/2026/01/indicible.png
ORGANIZER;CN="Floky la loutre":MAILTO:info@flokylaloutre.ch
END:VEVENT
END:VCALENDAR