BEGIN:VCALENDAR
VERSION:2.0
PRODID:-//Floky la loutre - ECPv6.15.20//NONSGML v1.0//EN
CALSCALE:GREGORIAN
METHOD:PUBLISH
X-WR-CALNAME:Floky la loutre
X-ORIGINAL-URL:https://flokylaloutre.ch
X-WR-CALDESC:Évènements pour Floky la loutre
REFRESH-INTERVAL;VALUE=DURATION:PT1H
X-Robots-Tag:noindex
X-PUBLISHED-TTL:PT1H
BEGIN:VTIMEZONE
TZID:Europe/Zurich
BEGIN:DAYLIGHT
TZOFFSETFROM:+0100
TZOFFSETTO:+0200
TZNAME:CEST
DTSTART:20240331T010000
END:DAYLIGHT
BEGIN:STANDARD
TZOFFSETFROM:+0200
TZOFFSETTO:+0100
TZNAME:CET
DTSTART:20241027T010000
END:STANDARD
BEGIN:DAYLIGHT
TZOFFSETFROM:+0100
TZOFFSETTO:+0200
TZNAME:CEST
DTSTART:20250330T010000
END:DAYLIGHT
BEGIN:STANDARD
TZOFFSETFROM:+0200
TZOFFSETTO:+0100
TZNAME:CET
DTSTART:20251026T010000
END:STANDARD
BEGIN:DAYLIGHT
TZOFFSETFROM:+0100
TZOFFSETTO:+0200
TZNAME:CEST
DTSTART:20260329T010000
END:DAYLIGHT
BEGIN:STANDARD
TZOFFSETFROM:+0200
TZOFFSETTO:+0100
TZNAME:CET
DTSTART:20261025T010000
END:STANDARD
BEGIN:DAYLIGHT
TZOFFSETFROM:+0100
TZOFFSETTO:+0200
TZNAME:CEST
DTSTART:20270328T010000
END:DAYLIGHT
BEGIN:STANDARD
TZOFFSETFROM:+0200
TZOFFSETTO:+0100
TZNAME:CET
DTSTART:20271031T010000
END:STANDARD
END:VTIMEZONE
BEGIN:VEVENT
DTSTART;TZID=Europe/Zurich:20260410T183000
DTEND;TZID=Europe/Zurich:20260410T233000
DTSTAMP:20260421T121012
CREATED:20260212T072435Z
LAST-MODIFIED:20260212T072436Z
UID:10002821-1775845800-1775863800@flokylaloutre.ch
SUMMARY:Tournois de Jass
DESCRIPTION:Taper le carton jusqu’à plus soif ! \nTournois de jass selon les règles du chibre\, dans une ambiance festive et détendue. \nOuvert à toute équipe qui sait s’amuser. \nInscription: 10 CHF sur place\, à 18h30 \nDébut du tournois à 18h50 \nFloky la loutre offre la planche de trophées. \n 
URL:https://flokylaloutre.ch/event/tournois-de-jass-8-2/
LOCATION:Floky la loutre\, 44 rue de Carouge\, Genève\, 1205
CATEGORIES:Événement,Jeux,Soirée
ATTACH;FMTTYPE=image/png:https://flokylaloutre.ch/wp-content/uploads/2025/09/jass.png
ORGANIZER;CN="Floky la loutre":MAILTO:info@flokylaloutre.ch
END:VEVENT
BEGIN:VEVENT
DTSTART;TZID=Europe/Zurich:20260306T183000
DTEND;TZID=Europe/Zurich:20260306T233000
DTSTAMP:20260421T121012
CREATED:20250916T090102Z
LAST-MODIFIED:20251009T070207Z
UID:10002820-1772821800-1772839800@flokylaloutre.ch
SUMMARY:Tournois de Jass
DESCRIPTION:Taper le carton jusqu’à plus soif ! \nTournois de jass selon les règles du chibre\, dans une ambiance festive et détendue. \nOuvert à toute équipe qui sait s’amuser. \nInscription: 10 CHF sur place\, à 18h30 \nDébut du tournois à 18h50 \nFloky la loutre offre la planche de trophées. \n 
URL:https://flokylaloutre.ch/event/tournois-de-jass-8/2026-03-06/
LOCATION:Floky la loutre\, 44 rue de Carouge\, Genève\, 1205
CATEGORIES:Événement,Jeux,Soirée
ATTACH;FMTTYPE=image/png:https://flokylaloutre.ch/wp-content/uploads/2025/09/jass.png
ORGANIZER;CN="Floky la loutre":MAILTO:info@flokylaloutre.ch
END:VEVENT
BEGIN:VEVENT
DTSTART;TZID=Europe/Zurich:20260225T190000
DTEND;TZID=Europe/Zurich:20260225T210000
DTSTAMP:20260421T121012
CREATED:20251212T073659Z
LAST-MODIFIED:20260114T133258Z
UID:10002879-1772046000-1772053200@flokylaloutre.ch
SUMMARY:Quizproquo
DESCRIPTION:Quizproquo \nConcept importé des pays anglo-saxon\, Floky la loutre accueille le Quizproquo. \nUn quizz pour tenter de briller devant tes amis\, ta famille\, ton tindate\, etc\, avec de superbes cadeaux à la clé. \nA toi de choisir ton équipe (max 4 personnes)  pour répondre à des questions sur tout et surtout n’importe quoi… \nEvènement animé par Justine et Ruwanga\, 2 catlovers passionnés. \nInscription obligatoire  @quizproquo \n5 CHF/ participant.e
URL:https://flokylaloutre.ch/event/quizproquo-10/
LOCATION:Floky la loutre\, 44 rue de Carouge\, Genève\, 1205
CATEGORIES:Événement,Floky Event,Jeux,Soirée
ATTACH;FMTTYPE=image/png:https://flokylaloutre.ch/wp-content/uploads/2024/04/quizpro-1.png
ORGANIZER;CN="Floky la loutre":MAILTO:info@flokylaloutre.ch
END:VEVENT
BEGIN:VEVENT
DTSTART;TZID=Europe/Zurich:20260206T183000
DTEND;TZID=Europe/Zurich:20260206T233000
DTSTAMP:20260421T121012
CREATED:20250916T090102Z
LAST-MODIFIED:20251009T070207Z
UID:10002819-1770402600-1770420600@flokylaloutre.ch
SUMMARY:Tournois de Jass
DESCRIPTION:Taper le carton jusqu’à plus soif ! \nTournois de jass selon les règles du chibre\, dans une ambiance festive et détendue. \nOuvert à toute équipe qui sait s’amuser. \nInscription: 10 CHF sur place\, à 18h30 \nDébut du tournois à 18h50 \nFloky la loutre offre la planche de trophées. \n 
URL:https://flokylaloutre.ch/event/tournois-de-jass-8/2026-02-06/
LOCATION:Floky la loutre\, 44 rue de Carouge\, Genève\, 1205
CATEGORIES:Événement,Jeux,Soirée
ATTACH;FMTTYPE=image/png:https://flokylaloutre.ch/wp-content/uploads/2025/09/jass.png
ORGANIZER;CN="Floky la loutre":MAILTO:info@flokylaloutre.ch
END:VEVENT
BEGIN:VEVENT
DTSTART;TZID=Europe/Zurich:20260109T183000
DTEND;TZID=Europe/Zurich:20260109T233000
DTSTAMP:20260421T121012
CREATED:20250916T090102Z
LAST-MODIFIED:20251009T070207Z
UID:10002818-1767983400-1768001400@flokylaloutre.ch
SUMMARY:Tournois de Jass
DESCRIPTION:Taper le carton jusqu’à plus soif ! \nTournois de jass selon les règles du chibre\, dans une ambiance festive et détendue. \nOuvert à toute équipe qui sait s’amuser. \nInscription: 10 CHF sur place\, à 18h30 \nDébut du tournois à 18h50 \nFloky la loutre offre la planche de trophées. \n 
URL:https://flokylaloutre.ch/event/tournois-de-jass-8/2026-01-09/
LOCATION:Floky la loutre\, 44 rue de Carouge\, Genève\, 1205
CATEGORIES:Événement,Jeux,Soirée
ATTACH;FMTTYPE=image/png:https://flokylaloutre.ch/wp-content/uploads/2025/09/jass.png
ORGANIZER;CN="Floky la loutre":MAILTO:info@flokylaloutre.ch
END:VEVENT
BEGIN:VEVENT
DTSTART;TZID=Europe/Zurich:20251205T183000
DTEND;TZID=Europe/Zurich:20251205T233000
DTSTAMP:20260421T121012
CREATED:20250916T090102Z
LAST-MODIFIED:20251009T070207Z
UID:10002856-1764959400-1764977400@flokylaloutre.ch
SUMMARY:Tournois de Jass
DESCRIPTION:Taper le carton jusqu’à plus soif ! \nTournois de jass selon les règles du chibre\, dans une ambiance festive et détendue. \nOuvert à toute équipe qui sait s’amuser. \nInscription: 10 CHF sur place\, à 18h30 \nDébut du tournois à 18h50 \nFloky la loutre offre la planche de trophées. \n 
URL:https://flokylaloutre.ch/event/tournois-de-jass-8/2025-12-05/
LOCATION:Floky la loutre\, 44 rue de Carouge\, Genève\, 1205
CATEGORIES:Événement,Jeux,Soirée
ATTACH;FMTTYPE=image/png:https://flokylaloutre.ch/wp-content/uploads/2025/09/jass.png
ORGANIZER;CN="Floky la loutre":MAILTO:info@flokylaloutre.ch
END:VEVENT
BEGIN:VEVENT
DTSTART;TZID=Europe/Zurich:20251119T190000
DTEND;TZID=Europe/Zurich:20251119T210000
DTSTAMP:20260421T121012
CREATED:20251118T082213Z
LAST-MODIFIED:20251118T082213Z
UID:10002872-1763578800-1763586000@flokylaloutre.ch
SUMMARY:Quizproquo
DESCRIPTION:Quizproquo \nConcept importé des pays anglo-saxon\, Floky la loutre accueille le Quizproquo. \nUn quizz pour tenter de briller devant tes amis\, ta famille\, ton tindate\, etc\, avec de superbes cadeaux à la clé. \nA toi de choisir ton équipe (max 4 personnes)  pour répondre à des questions sur tout et surtout n’importe quoi… \nEvènement animé par Justine et Ruwanga\, 2 catlovers passionnés. \nInscription obligatoire  @quizproquo \n5 CHF/ participant.e
URL:https://flokylaloutre.ch/event/quizproquo-9/
LOCATION:Floky la loutre\, 44 rue de Carouge\, Genève\, 1205
CATEGORIES:Événement,Floky Event,Jeux,Soirée
ATTACH;FMTTYPE=image/png:https://flokylaloutre.ch/wp-content/uploads/2024/04/quizpro-1.png
ORGANIZER;CN="Floky la loutre":MAILTO:info@flokylaloutre.ch
END:VEVENT
BEGIN:VEVENT
DTSTART;TZID=Europe/Zurich:20251107T183000
DTEND;TZID=Europe/Zurich:20251107T233000
DTSTAMP:20260421T121012
CREATED:20250916T090102Z
LAST-MODIFIED:20251009T070207Z
UID:10002816-1762540200-1762558200@flokylaloutre.ch
SUMMARY:Tournois de Jass
DESCRIPTION:Taper le carton jusqu’à plus soif ! \nTournois de jass selon les règles du chibre\, dans une ambiance festive et détendue. \nOuvert à toute équipe qui sait s’amuser. \nInscription: 10 CHF sur place\, à 18h30 \nDébut du tournois à 18h50 \nFloky la loutre offre la planche de trophées. \n 
URL:https://flokylaloutre.ch/event/tournois-de-jass-8/2025-11-07/
LOCATION:Floky la loutre\, 44 rue de Carouge\, Genève\, 1205
CATEGORIES:Événement,Jeux,Soirée
ATTACH;FMTTYPE=image/png:https://flokylaloutre.ch/wp-content/uploads/2025/09/jass.png
ORGANIZER;CN="Floky la loutre":MAILTO:info@flokylaloutre.ch
END:VEVENT
BEGIN:VEVENT
DTSTART;TZID=Europe/Zurich:20251028T190000
DTEND;TZID=Europe/Zurich:20251028T210000
DTSTAMP:20260421T121012
CREATED:20251007T132756Z
LAST-MODIFIED:20251007T132756Z
UID:10002853-1761678000-1761685200@flokylaloutre.ch
SUMMARY:Quizproquo
DESCRIPTION:Quizproquo \nConcept importé des pays anglo-saxon\, Floky la loutre accueille le Quizproquo. \nUn quizz pour tenter de briller devant tes amis\, ta famille\, ton tindate\, etc\, avec de superbes cadeaux à la clé. \nA toi de choisir ton équipe (max 4 personnes)  pour répondre à des questions sur tout et surtout n’importe quoi… \nEvènement animé par Justine et Ruwanga\, 2 catlovers passionnés. \nInscription obligatoire  @quizproquo \n5 CHF/ participant.e
URL:https://flokylaloutre.ch/event/quizproquo-5/
LOCATION:Floky la loutre\, 44 rue de Carouge\, Genève\, 1205
CATEGORIES:Événement,Floky Event,Jeux,Soirée
ATTACH;FMTTYPE=image/png:https://flokylaloutre.ch/wp-content/uploads/2024/04/quizpro-1.png
ORGANIZER;CN="Floky la loutre":MAILTO:info@flokylaloutre.ch
END:VEVENT
BEGIN:VEVENT
DTSTART;TZID=Europe/Zurich:20251010T183000
DTEND;TZID=Europe/Zurich:20251010T233000
DTSTAMP:20260421T121012
CREATED:20250916T090102Z
LAST-MODIFIED:20251009T070207Z
UID:10002815-1760121000-1760139000@flokylaloutre.ch
SUMMARY:Tournois de Jass
DESCRIPTION:Taper le carton jusqu’à plus soif ! \nTournois de jass selon les règles du chibre\, dans une ambiance festive et détendue. \nOuvert à toute équipe qui sait s’amuser. \nInscription: 10 CHF sur place\, à 18h30 \nDébut du tournois à 18h50 \nFloky la loutre offre la planche de trophées. \n 
URL:https://flokylaloutre.ch/event/tournois-de-jass-8/2025-10-10/
LOCATION:Floky la loutre\, 44 rue de Carouge\, Genève\, 1205
CATEGORIES:Événement,Jeux,Soirée
ATTACH;FMTTYPE=image/png:https://flokylaloutre.ch/wp-content/uploads/2025/09/jass.png
ORGANIZER;CN="Floky la loutre":MAILTO:info@flokylaloutre.ch
END:VEVENT
BEGIN:VEVENT
DTSTART;TZID=Europe/Zurich:20250930T200000
DTEND;TZID=Europe/Zurich:20250930T220000
DTSTAMP:20260421T121012
CREATED:20250914T152307Z
LAST-MODIFIED:20250914T152307Z
UID:10002801-1759262400-1759269600@flokylaloutre.ch
SUMMARY:Pitch a Firend - Halloween Edition
DESCRIPTION:Ghosts\, ghouls\, and maybe… your next boo 👻💘. \nThis Geneva Halloween edition is all about spooky pitches\, embarrassing stories\, and the terrifying reality of modern dating. Join us on Sept 30th at Floky la Loutre\, where the scariest thing isn’t the costumes\, it’s still being single before cuffing season. 🕸️ \nDetails: \nPitch My Friend Night is a time for friendship\, comedy\, and a shot at love! Unlike other dating events\, PMFN is a group event\, and you are expected to show up with a wingperson with you. Here’s how the event works:\nSign up as a pair\, one person looking for love\, and one of their best buddies. The buddy will create a short powerpoint presentation (3-5 minutes) pitching the presentee as a potential partner. The presentation can be structured however you want\, it can be satirical! It can be a rap! It can be cute and adorable! The choice is yours… but make the audience laugh!\nIf you are not ready to grab the mic yet\, you are more than welcome to join the event as a regular attendee and enjoy watching the presentations! \nPowerPoints can include: \n-First name\, general age\, pronouns and sexual preference (IE: looking for men\, looking for women\, looking for anyone) of the presentee (Mandatory) \n-A few fun facts about the presentee that represent their likes and dislikes\, or their dating tendencies. \n– A description of their ideal partner \n– First date ideas \n– Cute stories \n– Pictures!!!!! \n– Suggested pick-up lines \n– Information on how to follow up – if the presentee agrees\, a phone number\, instagram handle\, etc may be shared. Otherwise indicate if you should approach the presentee directly after the event. \n– LOTS OF JOKES!!!!! \nPresentations should not include: \n– any pictures\, information\, or stories that the presentee does not consent to! No sharing phone numbers\, last names\, swimsuit pics\, or stories about their weird ex without asking first! \nAfter the presentation\, there can be two minutes for audience questions. \n\nRegister
URL:https://flokylaloutre.ch/event/pitch-a-firend-halloween-edition/
LOCATION:Floky la loutre\, 44 rue de Carouge\, Genève\, 1205
CATEGORIES:English Speakers,Floky Underground,Jeux,Soirée,Spectacle,Stand Up
ATTACH;FMTTYPE=image/png:https://flokylaloutre.ch/wp-content/uploads/2025/09/pitch.png
ORGANIZER;CN="Floky la loutre":MAILTO:info@flokylaloutre.ch
END:VEVENT
BEGIN:VEVENT
DTSTART;TZID=Europe/Zurich:20250617T200000
DTEND;TZID=Europe/Zurich:20250617T213000
DTSTAMP:20260421T121012
CREATED:20250611T121337Z
LAST-MODIFIED:20250617T152154Z
UID:10002774-1750190400-1750195800@flokylaloutre.ch
SUMMARY:Pitch A Friend
DESCRIPTION:Romance meets peer pressure at Geneva’s premier dating/comedy/friendship event! If you are looking to find your summer fling\, all you have to do is show up with a friend and a 3-5 minute PowerPoint presentation showcasing your sweetest attributes. After the show we will be hanging out and sharing drinks\, stories\, and maybe even phone numbers!   \nJoin us at Floky la Loutre on June 17th for Geneva’s favorite comedy/dating combination event!  \n  \nUnlike other dating events\, Pitch A Friend is a group event\, and you are expected to show up with a wingman (or wingwoman!) with you. Here’s how the event works: \nSign up as a pair\, one person looking for love\, and one of their best buddies. The buddy will create a short powerpoint presentation (3-5 minutes) pitching the presentee as a potential partner. The presentation can be structured however you want\, it can be satirical! It can be a rap! It can be cute and adorable!  \n  \n🎟️ Registration: If you want to pitch\, register for free by completing this short form: http://bit.ly/4mHcsmW \n If you are only wishing to attend\, just show up at the event! \n  \nPowerPoints can include: \n-First name\, general age\, pronouns and sexual preference (IE: looking for men\, looking for women\, looking for anyone) of the presentee (Mandatory) \n-A few fun facts about the presentee that represent their likes and dislikes\, or their dating tendencies. \n– A description of their ideal partner \n– First date ideas \n– Cute stories \n– Pictures!!!!! \n– Suggested pick-up lines \n– Information on how to follow up – if the presentee agrees\, a phone number\, instagram handle\, etc may be shared. Otherwise indicate if you should approach the presentee directly after the event. \n– LOTS OF JOKES!!!!! \n  \nPresentations should not include: \n– any pictures\, information\, or stories that the presentee does not consent to! No sharing phone numbers\, last names\, swimsuit pics\, or stories about their weird ex without asking first! \n  \nAfter the presentation\, there can be two minutes for audience questions. Questions can be directed to either the presentee or their presenter. \n  \nEvent Schedule: \n8:00 – Doors open \n8:15 – Introduction to the event\, ground rules/information \n8:15 – 8:45 – first round of presentations \n8:45- 9:00 – break for drinks \n9:00 – 9:30/40 – second round of presentations \n9:45 – time to go mingle! \n 
URL:https://flokylaloutre.ch/event/pitch-a-friend-2/
LOCATION:Floky la loutre\, 44 rue de Carouge\, Genève\, 1205
CATEGORIES:Floky Underground,Jeux,Spectacle,Stand Up
ATTACH;FMTTYPE=image/png:https://flokylaloutre.ch/wp-content/uploads/2025/06/pitch.png
ORGANIZER;CN="Floky la loutre":MAILTO:info@flokylaloutre.ch
END:VEVENT
BEGIN:VEVENT
DTSTART;TZID=Europe/Zurich:20250523T183000
DTEND;TZID=Europe/Zurich:20250523T233000
DTSTAMP:20260421T121012
CREATED:20250415T063742Z
LAST-MODIFIED:20250415T063817Z
UID:10002743-1748025000-1748043000@flokylaloutre.ch
SUMMARY:Tournois de Jass
DESCRIPTION:Taper le carton jusqu’à plus soif ! \nTournois de jass selon les règles du chibre\, dans une ambiance festive et détendue. \nOuvert à toute équipe qui sait s’amuser. \nInscription: 10 CHF sur place\, à 18h30 \nDébut du tournois à 18h50 \nFloky la loutre offre la planche de trophées. \n 
URL:https://flokylaloutre.ch/event/tournois-de-jass-7/
LOCATION:Floky la loutre\, 44 rue de Carouge\, Genève\, 1205
CATEGORIES:Événement,Jeux,Soirée
ATTACH;FMTTYPE=image/png:https://flokylaloutre.ch/wp-content/uploads/2023/08/jass.png
ORGANIZER;CN="Floky la loutre":MAILTO:info@flokylaloutre.ch
END:VEVENT
BEGIN:VEVENT
DTSTART;TZID=Europe/Zurich:20250507T190000
DTEND;TZID=Europe/Zurich:20250507T210000
DTSTAMP:20260421T121012
CREATED:20250415T063119Z
LAST-MODIFIED:20250415T063535Z
UID:10002742-1746644400-1746651600@flokylaloutre.ch
SUMMARY:Quizproquo
DESCRIPTION:Quizproquo \nConcept importé des pays anglo-saxon\, Floky la loutre accueille le Quizproquo. \nUn quizz pour tenter de briller devant tes amis\, ta famille\, ton tindate\, etc\, avec de superbes cadeaux à la clé. \nA toi de choisir ton équipe (max 4 personnes)  pour répondre à des questions sur tout et surtout n’importe quoi… \nEvènement animé par Justine et Ruwanga\, 2 catlovers passionnés. \nInscription obligatoire  @quizproquo \n5 CHF/ participant.e
URL:https://flokylaloutre.ch/event/quizproquo-8/
LOCATION:Floky la loutre\, 44 rue de Carouge\, Genève\, 1205
CATEGORIES:Événement,Floky Event,Jeux,Soirée
ATTACH;FMTTYPE=image/png:https://flokylaloutre.ch/wp-content/uploads/2024/04/quizpro-1.png
ORGANIZER;CN="Floky la loutre":MAILTO:info@flokylaloutre.ch
END:VEVENT
END:VCALENDAR