BEGIN:VCALENDAR
VERSION:2.0
PRODID:-//Floky la loutre - ECPv6.15.20//NONSGML v1.0//EN
CALSCALE:GREGORIAN
METHOD:PUBLISH
X-ORIGINAL-URL:https://flokylaloutre.ch
X-WR-CALDESC:Évènements pour Floky la loutre
REFRESH-INTERVAL;VALUE=DURATION:PT1H
X-Robots-Tag:noindex
X-PUBLISHED-TTL:PT1H
BEGIN:VTIMEZONE
TZID:Europe/Zurich
BEGIN:DAYLIGHT
TZOFFSETFROM:+0100
TZOFFSETTO:+0200
TZNAME:CEST
DTSTART:20240331T010000
END:DAYLIGHT
BEGIN:STANDARD
TZOFFSETFROM:+0200
TZOFFSETTO:+0100
TZNAME:CET
DTSTART:20241027T010000
END:STANDARD
BEGIN:DAYLIGHT
TZOFFSETFROM:+0100
TZOFFSETTO:+0200
TZNAME:CEST
DTSTART:20250330T010000
END:DAYLIGHT
BEGIN:STANDARD
TZOFFSETFROM:+0200
TZOFFSETTO:+0100
TZNAME:CET
DTSTART:20251026T010000
END:STANDARD
BEGIN:DAYLIGHT
TZOFFSETFROM:+0100
TZOFFSETTO:+0200
TZNAME:CEST
DTSTART:20260329T010000
END:DAYLIGHT
BEGIN:STANDARD
TZOFFSETFROM:+0200
TZOFFSETTO:+0100
TZNAME:CET
DTSTART:20261025T010000
END:STANDARD
END:VTIMEZONE
BEGIN:VEVENT
DTSTART;TZID=Europe/Zurich:20250514T200000
DTEND;TZID=Europe/Zurich:20250514T220000
DTSTAMP:20260425T160644
CREATED:20250512T073013Z
LAST-MODIFIED:20250512T073013Z
UID:10002759-1747252800-1747260000@flokylaloutre.ch
SUMMARY:Le Plateau  Jakadi
DESCRIPTION:Le Jakadi Comedy Club te propose des soirées de stand up à Genève\, avec plusieurs formats : soirée avec un thème ou plateau d’artistes confirmés. \nAlors viens découvrir les humoristes confirmés et émergents de la région dans un cadre chaleureux et convivial. Une soirée d’humour avec rires garantis ! \n  \nEntrée libre\, sortie au chapeau \n  \nInscriptions recomandées \nIci
URL:https://flokylaloutre.ch/event/le-plateau-jakadi-3/
LOCATION:Floky la loutre\, 44 rue de Carouge\, Genève\, 1205
CATEGORIES:Concert,Floky Underground,Karaoke,Pop,Spectacle
ATTACH;FMTTYPE=image/png:https://flokylaloutre.ch/wp-content/uploads/2025/05/jakadi.png.png
ORGANIZER;CN="Floky la loutre":MAILTO:info@flokylaloutre.ch
END:VEVENT
END:VCALENDAR