BEGIN:VCALENDAR
VERSION:2.0
PRODID:-//Floky la loutre - ECPv6.15.20//NONSGML v1.0//EN
CALSCALE:GREGORIAN
METHOD:PUBLISH
X-ORIGINAL-URL:https://flokylaloutre.ch
X-WR-CALDESC:Évènements pour Floky la loutre
REFRESH-INTERVAL;VALUE=DURATION:PT1H
X-Robots-Tag:noindex
X-PUBLISHED-TTL:PT1H
BEGIN:VTIMEZONE
TZID:Europe/Zurich
BEGIN:DAYLIGHT
TZOFFSETFROM:+0100
TZOFFSETTO:+0200
TZNAME:CEST
DTSTART:20250330T010000
END:DAYLIGHT
BEGIN:STANDARD
TZOFFSETFROM:+0200
TZOFFSETTO:+0100
TZNAME:CET
DTSTART:20251026T010000
END:STANDARD
BEGIN:DAYLIGHT
TZOFFSETFROM:+0100
TZOFFSETTO:+0200
TZNAME:CEST
DTSTART:20260329T010000
END:DAYLIGHT
BEGIN:STANDARD
TZOFFSETFROM:+0200
TZOFFSETTO:+0100
TZNAME:CET
DTSTART:20261025T010000
END:STANDARD
BEGIN:DAYLIGHT
TZOFFSETFROM:+0100
TZOFFSETTO:+0200
TZNAME:CEST
DTSTART:20270328T010000
END:DAYLIGHT
BEGIN:STANDARD
TZOFFSETFROM:+0200
TZOFFSETTO:+0100
TZNAME:CET
DTSTART:20271031T010000
END:STANDARD
END:VTIMEZONE
BEGIN:VEVENT
DTSTART;TZID=Europe/Zurich:20260509T203000
DTEND;TZID=Europe/Zurich:20260509T233000
DTSTAMP:20260421T103406
CREATED:20260420T074454Z
LAST-MODIFIED:20260420T074525Z
UID:10002932-1778358600-1778369400@flokylaloutre.ch
SUMMARY:Soirée Openmic
DESCRIPTION:Soirée Openmic \nThème « Genderswap comédie musicale »\nLe but est de présenter une chanson de comédie musicale originalement interprétée par un autre genre que le sien. Comme cela implique peut-être des changements de tonalité par rapport au karaoké original\, vous pouvez vous inscrire et télécharger le karaoké sur ce formulaire : \nInscription
URL:https://flokylaloutre.ch/event/soiree-openmic/
LOCATION:Floky la loutre\, 44 rue de Carouge\, Genève\, 1205
CATEGORIES:Concert,English Speakers,Floky Underground,Karaoke,Pop,Soirée
ATTACH;FMTTYPE=image/png:https://flokylaloutre.ch/wp-content/uploads/2026/04/nebula.png
ORGANIZER;CN="Floky la loutre":MAILTO:info@flokylaloutre.ch
END:VEVENT
END:VCALENDAR