BEGIN:VCALENDAR
VERSION:2.0
PRODID:-//Floky la loutre - ECPv6.15.20//NONSGML v1.0//EN
CALSCALE:GREGORIAN
METHOD:PUBLISH
X-WR-CALNAME:Floky la loutre
X-ORIGINAL-URL:https://flokylaloutre.ch
X-WR-CALDESC:Évènements pour Floky la loutre
REFRESH-INTERVAL;VALUE=DURATION:PT1H
X-Robots-Tag:noindex
X-PUBLISHED-TTL:PT1H
BEGIN:VTIMEZONE
TZID:Europe/Zurich
BEGIN:DAYLIGHT
TZOFFSETFROM:+0100
TZOFFSETTO:+0200
TZNAME:CEST
DTSTART:20250330T010000
END:DAYLIGHT
BEGIN:STANDARD
TZOFFSETFROM:+0200
TZOFFSETTO:+0100
TZNAME:CET
DTSTART:20251026T010000
END:STANDARD
BEGIN:DAYLIGHT
TZOFFSETFROM:+0100
TZOFFSETTO:+0200
TZNAME:CEST
DTSTART:20260329T010000
END:DAYLIGHT
BEGIN:STANDARD
TZOFFSETFROM:+0200
TZOFFSETTO:+0100
TZNAME:CET
DTSTART:20261025T010000
END:STANDARD
BEGIN:DAYLIGHT
TZOFFSETFROM:+0100
TZOFFSETTO:+0200
TZNAME:CEST
DTSTART:20270328T010000
END:DAYLIGHT
BEGIN:STANDARD
TZOFFSETFROM:+0200
TZOFFSETTO:+0100
TZNAME:CET
DTSTART:20271031T010000
END:STANDARD
END:VTIMEZONE
BEGIN:VEVENT
DTSTART;TZID=Europe/Zurich:20260304T203000
DTEND;TZID=Europe/Zurich:20260304T223000
DTSTAMP:20260425T200724
CREATED:20250918T185959Z
LAST-MODIFIED:20250928T131605Z
UID:10002841-1772656200-1772663400@flokylaloutre.ch
SUMMARY:Rogier Bak To The Rescue!
DESCRIPTION:For the first time in history Rogier is back with a second (brand new) show: Rogier Bak To The Rescue! In an age of tension and turmoil\, Rogier daringly and openly jokes about self-growth\, how alpha men aren’t real\, and saving his dad from a scam so obvious it’s honestly embarrassing. \n“Absolutely brilliant!” (Russell Howard) \n*The show is 100% in English \nGet Tickets
URL:https://flokylaloutre.ch/event/rogier-bak-to-the-rescue/
LOCATION:Floky la loutre\, 44 rue de Carouge\, Genève\, 1205
CATEGORIES:English Speakers,Floky Underground,Soirée,Stand Up
ATTACH;FMTTYPE=image/png:https://flokylaloutre.ch/wp-content/uploads/2025/09/rogier-1.png
ORGANIZER;CN="Floky la loutre":MAILTO:info@flokylaloutre.ch
END:VEVENT
BEGIN:VEVENT
DTSTART;TZID=Europe/Zurich:20260312T200000
DTEND;TZID=Europe/Zurich:20260312T220000
DTSTAMP:20260425T200724
CREATED:20260218T084351Z
LAST-MODIFIED:20260218T084351Z
UID:10002906-1773345600-1773352800@flokylaloutre.ch
SUMMARY:The Female Variant
DESCRIPTION:Stand Up Comedy Show in English hosted and curated by Magda Mihaila! Bringing together the funniest local comedians with big ovary energy \n  \nGet Tickets
URL:https://flokylaloutre.ch/event/the-female-variant-2/
LOCATION:Floky la loutre\, 44 rue de Carouge\, Genève\, 1205
CATEGORIES:English Speakers,Floky Underground,Stand Up
ATTACH;FMTTYPE=image/png:https://flokylaloutre.ch/wp-content/uploads/2026/02/female.png
ORGANIZER;CN="Floky la loutre":MAILTO:info@flokylaloutre.ch
END:VEVENT
BEGIN:VEVENT
DTSTART;TZID=Europe/Zurich:20260324T203000
DTEND;TZID=Europe/Zurich:20260324T203000
DTSTAMP:20260425T200724
CREATED:20260119T181017Z
LAST-MODIFIED:20260125T175800Z
UID:10002895-1774384200-1774384200@flokylaloutre.ch
SUMMARY:Karim en Spectacle - Standup
DESCRIPTION:
URL:https://flokylaloutre.ch/event/karim-devaud-stand-up/
LOCATION:Floky la loutre\, 44 rue de Carouge\, Genève\, 1205
CATEGORIES:Floky Underground,Stand Up
ATTACH;FMTTYPE=image/png:https://flokylaloutre.ch/wp-content/uploads/2026/01/karim-1.png
ORGANIZER;CN="Floky la loutre":MAILTO:info@flokylaloutre.ch
END:VEVENT
END:VCALENDAR